BEGIN:VCALENDAR
VERSION:2.0
PRODID:-//rssny.org//NONSGML kigkonsult.se iCalcreator 2.30.10//
CALSCALE:GREGORIAN
METHOD:PUBLISH
UID:9c192b27-8efb-4c2b-88d5-3e45b793953e
X-WR-CALDESC:If you are attending online\, click here to register - https:/
 /rssny.org/belly-dancing.html\n\nJoin Noora for belly dancing. Belly danci
 ng is a great way to get exercise\, practice balance and have fun!
X-WR-RELCALID:0a0f199569aeeb8a45a8e96841add5e9
X-WR-TIMEZONE:America/New_York
BEGIN:VTIMEZONE
TZID:America/New_York
BEGIN:STANDARD
TZNAME:EST
DTSTART:20241103T020000
TZOFFSETFROM:-0400
TZOFFSETTO:-0500
RDATE:20251102T020000
END:STANDARD
BEGIN:DAYLIGHT
TZNAME:EDT
DTSTART:20240310T020000
TZOFFSETFROM:-0500
TZOFFSETTO:-0400
RDATE:20250309T020000
RDATE:20260308T020000
END:DAYLIGHT
END:VTIMEZONE
BEGIN:VEVENT
UID:c71ad856-7edb-4a98-a055-99e8e7a43fe3
DTSTAMP:20260421T090316Z
DESCRIPTION:If you are attending online\, click here to register - https://
 rssny.org/belly-dancing.html\n\nJoin Noora for belly dancing. Belly dancin
 g is a great way to get exercise\, practice balance and have fun!
DTSTART;TZID=America/New_York:20241126T130000
DTEND;TZID=America/New_York:20241126T140000
LOCATION:
SUMMARY:Belly Dancing w/Noora (HYBRID) - CANCELLED
END:VEVENT
END:VCALENDAR
