BEGIN:VCALENDAR
VERSION:2.0
PRODID:-//rssny.org//NONSGML kigkonsult.se iCalcreator 2.30.10//
CALSCALE:GREGORIAN
METHOD:PUBLISH
UID:8906c9e1-b016-4486-a759-47000c23885d
X-WR-CALDESC:Join us for a special holiday concert with opera singer Cheryl
  Warfield.
X-WR-RELCALID:8b0b177d1ea8c4cfbe4e748d34ef5df5
X-WR-TIMEZONE:America/New_York
BEGIN:VTIMEZONE
TZID:America/New_York
BEGIN:STANDARD
TZNAME:EST
DTSTART:20241103T020000
TZOFFSETFROM:-0400
TZOFFSETTO:-0500
RDATE:20251102T020000
END:STANDARD
BEGIN:DAYLIGHT
TZNAME:EDT
DTSTART:20240310T020000
TZOFFSETFROM:-0500
TZOFFSETTO:-0400
RDATE:20250309T020000
RDATE:20260308T020000
END:DAYLIGHT
END:VTIMEZONE
BEGIN:VEVENT
UID:935922c8-3636-4bbc-9412-10b49d6f3c1e
DTSTAMP:20260421T090317Z
DESCRIPTION:Join us for a special holiday concert with opera singer Cheryl 
 Warfield.
DTSTART;TZID=America/New_York:20241120T130000
DTEND;TZID=America/New_York:20241120T140000
LOCATION:
SUMMARY:Special Thanksgiving Concert with Cheryl Warfield (Hybrid-R)
END:VEVENT
END:VCALENDAR
