BEGIN:VCALENDAR
VERSION:2.0
PRODID:-//rssny.org//NONSGML kigkonsult.se iCalcreator 2.30.10//
CALSCALE:GREGORIAN
METHOD:PUBLISH
UID:a4f29b83-5269-4ae8-9efc-f7856bd52214
X-WR-CALDESC:
X-WR-RELCALID:5089b0c45e470ad8601a5c95a35c8bad
X-WR-TIMEZONE:America/New_York
BEGIN:VTIMEZONE
TZID:America/New_York
BEGIN:STANDARD
TZNAME:EST
DTSTART:20241103T020000
TZOFFSETFROM:-0400
TZOFFSETTO:-0500
RDATE:20251102T020000
END:STANDARD
BEGIN:DAYLIGHT
TZNAME:EDT
DTSTART:20240310T020000
TZOFFSETFROM:-0500
TZOFFSETTO:-0400
RDATE:20250309T020000
RDATE:20260308T020000
END:DAYLIGHT
END:VTIMEZONE
BEGIN:VEVENT
UID:dd3533ec-3be5-420e-ba4f-ab54551320a2
DTSTAMP:20260421T090329Z
DESCRIPTION:
DTSTART;TZID=America/New_York:20241118T120000
DTEND;TZID=America/New_York:20241118T130000
LOCATION:
SUMMARY:Concerts in Motion: Meditative Mondays (This is not an RSS event)
END:VEVENT
END:VCALENDAR
