BEGIN:VCALENDAR
VERSION:2.0
PRODID:-//rssny.org//NONSGML kigkonsult.se iCalcreator 2.30.10//
CALSCALE:GREGORIAN
METHOD:PUBLISH
UID:b5fc09b5-5b42-4fde-baaa-441d783d9c00
X-WR-CALDESC:
X-WR-RELCALID:567bc220ceb1ccd434c1125d7f8d0199
X-WR-TIMEZONE:America/New_York
BEGIN:VTIMEZONE
TZID:America/New_York
BEGIN:STANDARD
TZNAME:EST
DTSTART:20241103T020000
TZOFFSETFROM:-0400
TZOFFSETTO:-0500
RDATE:20251102T020000
END:STANDARD
BEGIN:DAYLIGHT
TZNAME:EDT
DTSTART:20240310T020000
TZOFFSETFROM:-0500
TZOFFSETTO:-0400
RDATE:20250309T020000
RDATE:20260308T020000
END:DAYLIGHT
END:VTIMEZONE
BEGIN:VEVENT
UID:cf3510c9-12e5-4934-bc7a-2846ce28ca6f
DTSTAMP:20260421T085555Z
DESCRIPTION:
DTSTART;TZID=America/New_York:20241110T100000
DTEND;TZID=America/New_York:20241110T150000
LOCATION:
SUMMARY:RSS Bargain Bonanza Bazaar
END:VEVENT
END:VCALENDAR
