BEGIN:VCALENDAR
VERSION:2.0
PRODID:-//rssny.org//NONSGML kigkonsult.se iCalcreator 2.30.10//
CALSCALE:GREGORIAN
METHOD:PUBLISH
UID:e30f8cc2-85b7-48a0-b56f-d0d5f6835614
X-WR-CALDESC:Barbra Streisand\nhttps://en.wikipedia.org/wiki/Barbra_Streisa
 nd\n\n\n\n
X-WR-RELCALID:a4f514b72adfa0295efa66c9abb3dcdb
X-WR-TIMEZONE:America/New_York
BEGIN:VTIMEZONE
TZID:America/New_York
BEGIN:STANDARD
TZNAME:EST
DTSTART:20241103T020000
TZOFFSETFROM:-0400
TZOFFSETTO:-0500
RDATE:20251102T020000
END:STANDARD
BEGIN:DAYLIGHT
TZNAME:EDT
DTSTART:20240310T020000
TZOFFSETFROM:-0500
TZOFFSETTO:-0400
RDATE:20250309T020000
RDATE:20260308T020000
END:DAYLIGHT
END:VTIMEZONE
BEGIN:VEVENT
UID:9324257d-a628-41c6-9179-27cf6560ed0f
DTSTAMP:20260421T090214Z
DESCRIPTION:Barbra Streisand\nhttps://en.wikipedia.org/wiki/Barbra_Streisan
 d\n\n\n\n
DTSTART;TZID=America/New_York:20241110T170000
DTEND;TZID=America/New_York:20241110T180000
LOCATION:https://rssny.org/music_appreciation.html
SUMMARY:Music Appreciation with Diana: Barbra Streisand (ONLINE)
END:VEVENT
END:VCALENDAR
