BEGIN:VCALENDAR
VERSION:2.0
PRODID:-//rssny.org//NONSGML kigkonsult.se iCalcreator 2.30.10//
CALSCALE:GREGORIAN
METHOD:PUBLISH
UID:966c784d-7cba-4462-bb8e-8f889ab13920
X-WR-CALDESC:Space is limited. \n\nIf interested\, contact Social Work Inte
 rn: Jane Matluck\n-Call: 718-884-5900\n-Email: jmatluck@rssny.org
X-WR-RELCALID:315c06e9b16700a6259770016f555eeb
X-WR-TIMEZONE:America/New_York
BEGIN:VTIMEZONE
TZID:America/New_York
BEGIN:STANDARD
TZNAME:EST
DTSTART:20231105T020000
TZOFFSETFROM:-0400
TZOFFSETTO:-0500
RDATE:20241103T020000
RDATE:20251102T020000
END:STANDARD
BEGIN:DAYLIGHT
TZNAME:EDT
DTSTART:20240310T020000
TZOFFSETFROM:-0500
TZOFFSETTO:-0400
RDATE:20250309T020000
RDATE:20260308T020000
END:DAYLIGHT
END:VTIMEZONE
BEGIN:VEVENT
UID:28b18c88-81dd-4e96-996d-e02235bfaf72
DTSTAMP:20260421T090336Z
DESCRIPTION:Space is limited. \n\nIf interested\, contact Social Work Inter
 n: Jane Matluck\n-Call: 718-884-5900\n-Email: jmatluck@rssny.org
DTSTART;TZID=America/New_York:20241104T120000
DTEND;TZID=America/New_York:20241104T130000
LOCATION:
SUMMARY:Grief Group: Spousal and Partner Loss (In-Center only)
END:VEVENT
END:VCALENDAR
