BEGIN:VCALENDAR
VERSION:2.0
PRODID:-//rssny.org//NONSGML kigkonsult.se iCalcreator 2.30.10//
CALSCALE:GREGORIAN
METHOD:PUBLISH
UID:8b77efc2-624b-46ac-a254-97c597cd3c26
X-WR-CALDESC:Space is limited. \n\nIf interested\, contact Social Work Inte
 rn: Jane Matluck\, Social Work\, intern\nCall: 718-884-5900\nEmail: jmatlu
 ck@rssny.org
X-WR-RELCALID:ebcd4299202ee5618ee2f04080bf5f00
X-WR-TIMEZONE:America/New_York
BEGIN:VTIMEZONE
TZID:America/New_York
BEGIN:STANDARD
TZNAME:EST
DTSTART:20231105T020000
TZOFFSETFROM:-0400
TZOFFSETTO:-0500
RDATE:20241103T020000
RDATE:20251102T020000
END:STANDARD
BEGIN:DAYLIGHT
TZNAME:EDT
DTSTART:20240310T020000
TZOFFSETFROM:-0500
TZOFFSETTO:-0400
RDATE:20250309T020000
RDATE:20260308T020000
END:DAYLIGHT
END:VTIMEZONE
BEGIN:VEVENT
UID:785e7fa4-f2c9-47a8-a29b-103bf51a37ba
DTSTAMP:20260421T103339Z
DESCRIPTION:Space is limited. \n\nIf interested\, contact Social Work Inter
 n: Jane Matluck\, Social Work\, intern\nCall: 718-884-5900\nEmail: jmatluc
 k@rssny.org
DTSTART;TZID=America/New_York:20241030T150000
DTEND;TZID=America/New_York:20241030T160000
LOCATION:
SUMMARY:Grief Group: Loss of Child (In-Center only)
END:VEVENT
END:VCALENDAR
