BEGIN:VCALENDAR
VERSION:2.0
PRODID:-//rssny.org//NONSGML kigkonsult.se iCalcreator 2.30.10//
CALSCALE:GREGORIAN
METHOD:PUBLISH
UID:34be3329-95ef-4d83-9f16-b061744cf77c
X-WR-CALDESC:This class is online.\nLevel: Beginner\n\n\nThis session is le
 d by Tabitha Rosa\, Virtual Programs Coordinator and Tech Specialist.
X-WR-RELCALID:8d45f0f9a435dfada48ffaafac27408a
X-WR-TIMEZONE:America/New_York
BEGIN:VTIMEZONE
TZID:America/New_York
BEGIN:STANDARD
TZNAME:EST
DTSTART:20231105T020000
TZOFFSETFROM:-0400
TZOFFSETTO:-0500
RDATE:20241103T020000
RDATE:20251102T020000
END:STANDARD
BEGIN:DAYLIGHT
TZNAME:EDT
DTSTART:20240310T020000
TZOFFSETFROM:-0500
TZOFFSETTO:-0400
RDATE:20250309T020000
RDATE:20260308T020000
END:DAYLIGHT
END:VTIMEZONE
BEGIN:VEVENT
UID:8c34f3b6-bf94-427b-9635-f0a7c419d191
DTSTAMP:20260421T102807Z
DESCRIPTION:This class is online.\nLevel: Beginner\n\n\nThis session is led
  by Tabitha Rosa\, Virtual Programs Coordinator and Tech Specialist.
DTSTART;TZID=America/New_York:20241024T110000
DTEND;TZID=America/New_York:20241024T120000
LOCATION:https://rssny.org/class-forms/technology-classes.html
SUMMARY:Tech How-To's: Review (ONLINE)
END:VEVENT
END:VCALENDAR
