BEGIN:VCALENDAR
VERSION:2.0
PRODID:-//rssny.org//NONSGML kigkonsult.se iCalcreator 2.30.10//
CALSCALE:GREGORIAN
METHOD:PUBLISH
UID:9932f93b-2325-4845-a7b2-57d74a9cd45c
X-WR-CALDESC:Participants will learn the features and functions of Android 
 mobile devices and how to use and navigate apps.
X-WR-RELCALID:e287d65eb0f25ec9e0ddeffd0304c230
X-WR-TIMEZONE:America/New_York
BEGIN:VTIMEZONE
TZID:America/New_York
BEGIN:STANDARD
TZNAME:EST
DTSTART:20231105T020000
TZOFFSETFROM:-0400
TZOFFSETTO:-0500
RDATE:20241103T020000
RDATE:20251102T020000
END:STANDARD
BEGIN:DAYLIGHT
TZNAME:EDT
DTSTART:20240310T020000
TZOFFSETFROM:-0500
TZOFFSETTO:-0400
RDATE:20250309T020000
RDATE:20260308T020000
END:DAYLIGHT
END:VTIMEZONE
BEGIN:VEVENT
UID:fa3f22dc-4460-40ca-8ca6-ef27f903ea4a
DTSTAMP:20260421T102638Z
DESCRIPTION:Participants will learn the features and functions of Android m
 obile devices and how to use and navigate apps.
DTSTART;TZID=America/New_York:20241022T140000
DTEND;TZID=America/New_York:20241022T150000
LOCATION:
SUMMARY:Beginner's Tech: Android Basics (ONLINE)
END:VEVENT
END:VCALENDAR
