BEGIN:VCALENDAR
VERSION:2.0
PRODID:-//rssny.org//NONSGML kigkonsult.se iCalcreator 2.30.10//
CALSCALE:GREGORIAN
METHOD:PUBLISH
UID:a7ed9e1b-6139-46cc-950f-bd4ac7fb9b43
X-WR-CALDESC:TO REGISTER: Call 718.884.5900
X-WR-RELCALID:40b83fe48bf6f1f129cb6f4d96b182df
X-WR-TIMEZONE:America/New_York
BEGIN:VTIMEZONE
TZID:America/New_York
BEGIN:STANDARD
TZNAME:EST
DTSTART:20231105T020000
TZOFFSETFROM:-0400
TZOFFSETTO:-0500
RDATE:20241103T020000
RDATE:20251102T020000
END:STANDARD
BEGIN:DAYLIGHT
TZNAME:EDT
DTSTART:20240310T020000
TZOFFSETFROM:-0500
TZOFFSETTO:-0400
RDATE:20250309T020000
RDATE:20260308T020000
END:DAYLIGHT
END:VTIMEZONE
BEGIN:VEVENT
UID:0381030a-73fd-4b32-a8b9-86b8600489ce
DTSTAMP:20260421T103250Z
DESCRIPTION:TO REGISTER: Call 718.884.5900
DTSTART;TZID=America/New_York:20241017T130000
DTEND;TZID=America/New_York:20241017T140000
LOCATION:TO REGISTER: Call 718.884.5900
SUMMARY:CANCELED: with Recyclables with Susan Guzman: IN PERSON
END:VEVENT
END:VCALENDAR
