BEGIN:VCALENDAR
VERSION:2.0
PRODID:-//rssny.org//NONSGML kigkonsult.se iCalcreator 2.30.10//
CALSCALE:GREGORIAN
METHOD:PUBLISH
UID:ed2c5aea-eb89-4c7c-ba4e-92caa184a024
X-WR-CALDESC:
X-WR-RELCALID:736c3abb699b1f566cc10bf3c569f52a
X-WR-TIMEZONE:America/New_York
BEGIN:VTIMEZONE
TZID:America/New_York
BEGIN:STANDARD
TZNAME:EST
DTSTART:20231105T020000
TZOFFSETFROM:-0400
TZOFFSETTO:-0500
RDATE:20241103T020000
RDATE:20251102T020000
END:STANDARD
BEGIN:DAYLIGHT
TZNAME:EDT
DTSTART:20240310T020000
TZOFFSETFROM:-0500
TZOFFSETTO:-0400
RDATE:20250309T020000
RDATE:20260308T020000
END:DAYLIGHT
END:VTIMEZONE
BEGIN:VEVENT
UID:f55dd60e-53d4-47af-bc18-3eac2cc08a51
DTSTAMP:20260421T103525Z
DESCRIPTION:
DTSTART;TZID=America/New_York:20241009T170000
DTEND;TZID=America/New_York:20241009T190000
LOCATION:
SUMMARY:History of Sputyn Duyvil\, Kingsbridge Historical Society (Hybrid -
  Presenter in the Center)
END:VEVENT
END:VCALENDAR
