BEGIN:VCALENDAR
VERSION:2.0
PRODID:-//rssny.org//NONSGML kigkonsult.se iCalcreator 2.30.10//
CALSCALE:GREGORIAN
METHOD:PUBLISH
UID:bd3cbf28-b7fe-4f98-a720-ee59eaf08ab7
X-WR-CALDESC:
X-WR-RELCALID:5f5d1440644f2e92da943da61f22dcb4
X-WR-TIMEZONE:America/New_York
BEGIN:VTIMEZONE
TZID:America/New_York
BEGIN:STANDARD
TZNAME:EST
DTSTART:20231105T020000
TZOFFSETFROM:-0400
TZOFFSETTO:-0500
RDATE:20241103T020000
RDATE:20251102T020000
END:STANDARD
BEGIN:DAYLIGHT
TZNAME:EDT
DTSTART:20240310T020000
TZOFFSETFROM:-0500
TZOFFSETTO:-0400
RDATE:20250309T020000
RDATE:20260308T020000
END:DAYLIGHT
END:VTIMEZONE
BEGIN:VEVENT
UID:23416467-456d-42c0-93b8-8230d25b963d
DTSTAMP:20260421T103144Z
DESCRIPTION:
DTSTART;TZID=America/New_York:20241007T120000
DTEND;TZID=America/New_York:20241007T130000
LOCATION:
SUMMARY:Concerts in Motion: Meditative Mondays (This is not an RSS event)
END:VEVENT
END:VCALENDAR
