BEGIN:VCALENDAR
VERSION:2.0
PRODID:-//rssny.org//NONSGML kigkonsult.se iCalcreator 2.30.10//
CALSCALE:GREGORIAN
METHOD:PUBLISH
UID:6594efc0-1411-47a6-a3b7-18f7819e9d17
X-WR-CALDESC:Bedrich Smetana\nhttps://en.wikipedia.org/wiki/Bed%C5%99ich_Sm
 etana\n\n\n\n
X-WR-RELCALID:c12943cc7149ed820b7b3ef99febe3da
X-WR-TIMEZONE:America/New_York
BEGIN:VTIMEZONE
TZID:America/New_York
BEGIN:STANDARD
TZNAME:EST
DTSTART:20231105T020000
TZOFFSETFROM:-0400
TZOFFSETTO:-0500
RDATE:20241103T020000
RDATE:20251102T020000
END:STANDARD
BEGIN:DAYLIGHT
TZNAME:EDT
DTSTART:20240310T020000
TZOFFSETFROM:-0500
TZOFFSETTO:-0400
RDATE:20250309T020000
RDATE:20260308T020000
END:DAYLIGHT
END:VTIMEZONE
BEGIN:VEVENT
UID:35f92afb-907e-4ef7-bae6-62b67a60c1df
DTSTAMP:20260421T103057Z
DESCRIPTION:Bedrich Smetana\nhttps://en.wikipedia.org/wiki/Bed%C5%99ich_Sme
 tana\n\n\n\n
DTSTART;TZID=America/New_York:20241006T164500
DTEND;TZID=America/New_York:20241006T180000
LOCATION:https://rssny.org/music_appreciation.html
SUMMARY:Music Appreciation with Diana: Bedrich Smetana (ONLINE)
END:VEVENT
END:VCALENDAR
