BEGIN:VCALENDAR
VERSION:2.0
PRODID:-//rssny.org//NONSGML kigkonsult.se iCalcreator 2.30.10//
CALSCALE:GREGORIAN
METHOD:PUBLISH
UID:60ac0eec-b5ff-48a4-bbcb-2379c9be77f1
X-WR-CALDESC:This class is online.\nLevel: Beginner\n\n\nThis session is le
 d by Tabitha Rosa\, Virtual Programs Coordinator and Tech Specialist.
X-WR-RELCALID:a83dceec6a9665d981d3bad263abb611
X-WR-TIMEZONE:America/New_York
BEGIN:VTIMEZONE
TZID:America/New_York
BEGIN:STANDARD
TZNAME:EST
DTSTART:20231105T020000
TZOFFSETFROM:-0400
TZOFFSETTO:-0500
RDATE:20241103T020000
RDATE:20251102T020000
END:STANDARD
BEGIN:DAYLIGHT
TZNAME:EDT
DTSTART:20240310T020000
TZOFFSETFROM:-0500
TZOFFSETTO:-0400
RDATE:20250309T020000
RDATE:20260308T020000
END:DAYLIGHT
END:VTIMEZONE
BEGIN:VEVENT
UID:dabd8be3-7daf-4524-83f3-50ae8f50d0ff
DTSTAMP:20260423T085330Z
DESCRIPTION:This class is online.\nLevel: Beginner\n\n\nThis session is led
  by Tabitha Rosa\, Virtual Programs Coordinator and Tech Specialist.
DTSTART;TZID=America/New_York:20240926T110000
DTEND;TZID=America/New_York:20240926T120000
LOCATION:https://rssny.org/class-forms/technology-classes.html
SUMMARY:Tech How-To's: Review (ONLINE)
END:VEVENT
END:VCALENDAR
