BEGIN:VCALENDAR
VERSION:2.0
PRODID:-//rssny.org//NONSGML kigkonsult.se iCalcreator 2.30.10//
CALSCALE:GREGORIAN
METHOD:PUBLISH
UID:b970d87e-e66b-4341-83e1-41113b5b3f7d
X-WR-CALDESC:To register: https://rssny.org/class-forms/falls-assessment.ht
 ml\n\nJoin Columbia OT students in this workshop about Falls Prevention. T
 his is a preview for a series of workshops they will be leading about fall
 s prevention starting on October 2. After the program\, they will do indiv
 idual Falls  prevention screenings.
X-WR-RELCALID:87ba298e120a41c303c4e7f7703e347f
X-WR-TIMEZONE:America/New_York
BEGIN:VTIMEZONE
TZID:America/New_York
BEGIN:STANDARD
TZNAME:EST
DTSTART:20231105T020000
TZOFFSETFROM:-0400
TZOFFSETTO:-0500
RDATE:20241103T020000
RDATE:20251102T020000
END:STANDARD
BEGIN:DAYLIGHT
TZNAME:EDT
DTSTART:20240310T020000
TZOFFSETFROM:-0500
TZOFFSETTO:-0400
RDATE:20250309T020000
RDATE:20260308T020000
END:DAYLIGHT
END:VTIMEZONE
BEGIN:VEVENT
UID:76fa8a66-b7a4-4f36-8c7f-d46d105ab351
DTSTAMP:20260423T090232Z
DESCRIPTION:To register: https://rssny.org/class-forms/falls-assessment.htm
 l\n\nJoin Columbia OT students in this workshop about Falls Prevention. Th
 is is a preview for a series of workshops they will be leading about falls
  prevention starting on October 2. After the program\, they will do indivi
 dual Falls  prevention screenings.
DTSTART;TZID=America/New_York:20240925T130000
DTEND;TZID=America/New_York:20240925T140000
LOCATION:https://rssny.org/class-forms/falls-assessment.html
SUMMARY:Fall Prevention Day Presentation with Columbia OT students (Hybrid)
END:VEVENT
END:VCALENDAR
