BEGIN:VCALENDAR
VERSION:2.0
PRODID:-//rssny.org//NONSGML kigkonsult.se iCalcreator 2.30.10//
CALSCALE:GREGORIAN
METHOD:PUBLISH
UID:b757ac2e-7da3-479c-ba37-d8cc0e0d7c4e
X-WR-CALDESC:If you are interested in joining this group send an email to i
 nfo@rssny.org or call 718.884.5900
X-WR-RELCALID:255ab22531696bddd4045a903a1ae4db
X-WR-TIMEZONE:America/New_York
BEGIN:VTIMEZONE
TZID:America/New_York
BEGIN:STANDARD
TZNAME:EST
DTSTART:20231105T020000
TZOFFSETFROM:-0400
TZOFFSETTO:-0500
RDATE:20241103T020000
RDATE:20251102T020000
END:STANDARD
BEGIN:DAYLIGHT
TZNAME:EDT
DTSTART:20240310T020000
TZOFFSETFROM:-0500
TZOFFSETTO:-0400
RDATE:20250309T020000
END:DAYLIGHT
END:VTIMEZONE
BEGIN:VEVENT
UID:bdd584cf-9427-40a5-9740-faa95fcbd586
DTSTAMP:20260423T085355Z
DESCRIPTION:If you are interested in joining this group send an email to in
 fo@rssny.org or call 718.884.5900
DTSTART;TZID=America/New_York:20240904T130000
DTEND;TZID=America/New_York:20240904T140000
LOCATION:
SUMMARY:Caregivers Support Group  (Hybrid)
END:VEVENT
END:VCALENDAR
