BEGIN:VCALENDAR
VERSION:2.0
PRODID:-//rssny.org//NONSGML kigkonsult.se iCalcreator 2.30.10//
CALSCALE:GREGORIAN
METHOD:PUBLISH
UID:71aa2143-7e1f-4353-9c64-8d58b00e81db
X-WR-CALDESC:REGISTER HERE - https://rssny.org/class-forms/get-fit-with-stu
 art.html\n\nGet tone and fit with Stuart\, our exercise expert. Good for y
 ou whatever your level of fitness. A general fitness class that can be don
 e seated or standing. Try out this new class at RSS.
X-WR-RELCALID:4a2aad33cf6bde3f18af82936ccd31f5
X-WR-TIMEZONE:America/New_York
BEGIN:VTIMEZONE
TZID:America/New_York
BEGIN:STANDARD
TZNAME:EST
DTSTART:20231105T020000
TZOFFSETFROM:-0400
TZOFFSETTO:-0500
RDATE:20241103T020000
RDATE:20251102T020000
END:STANDARD
BEGIN:DAYLIGHT
TZNAME:EDT
DTSTART:20240310T020000
TZOFFSETFROM:-0500
TZOFFSETTO:-0400
RDATE:20250309T020000
END:DAYLIGHT
END:VTIMEZONE
BEGIN:VEVENT
UID:ed1959a4-c85f-4ccd-8deb-9f366b237ab7
DTSTAMP:20260423T101551Z
DESCRIPTION:REGISTER HERE - https://rssny.org/class-forms/get-fit-with-stua
 rt.html\n\nGet tone and fit with Stuart\, our exercise expert. Good for yo
 u whatever your level of fitness. A general fitness class that can be done
  seated or standing. Try out this new class at RSS.
DTSTART;TZID=America/New_York:20240826T100000
DTEND;TZID=America/New_York:20240826T110000
LOCATION:https://rssny.org/class-forms/get-fit-with-stuart.html
SUMMARY:NO CLASS TODAY! Get Fit with Stuart (ONLINE & IN CENTER)
END:VEVENT
END:VCALENDAR
