BEGIN:VCALENDAR
VERSION:2.0
PRODID:-//rssny.org//NONSGML kigkonsult.se iCalcreator 2.30.10//
CALSCALE:GREGORIAN
METHOD:PUBLISH
UID:a1ad7d71-b37e-44dd-9a54-1336f150b229
X-WR-CALDESC:Click Here to Register - https://rssny.org/class-forms/concert
 s-in-motion.html\n
X-WR-RELCALID:e1ee439d024023d6e0c6c99cba0775ce
X-WR-TIMEZONE:America/New_York
BEGIN:VTIMEZONE
TZID:America/New_York
BEGIN:STANDARD
TZNAME:EST
DTSTART:20231105T020000
TZOFFSETFROM:-0400
TZOFFSETTO:-0500
RDATE:20241103T020000
RDATE:20251102T020000
END:STANDARD
BEGIN:DAYLIGHT
TZNAME:EDT
DTSTART:20240310T020000
TZOFFSETFROM:-0500
TZOFFSETTO:-0400
RDATE:20250309T020000
END:DAYLIGHT
END:VTIMEZONE
BEGIN:VEVENT
UID:7516c431-a940-43b7-9c42-89312254eb14
DTSTAMP:20260423T103757Z
DESCRIPTION:Click Here to Register - https://rssny.org/class-forms/concerts
 -in-motion.html\n
DTSTART;TZID=America/New_York:20240815T130000
DTEND;TZID=America/New_York:20240815T140000
LOCATION:https://rssny.org/class-forms/concerts-in-motion.html
SUMMARY:Concerts in Motion: Coffehouse Thursdays- NOT AN RSS PROGRAM)
END:VEVENT
END:VCALENDAR
