BEGIN:VCALENDAR
VERSION:2.0
PRODID:-//rssny.org//NONSGML kigkonsult.se iCalcreator 2.30.10//
CALSCALE:GREGORIAN
METHOD:PUBLISH
UID:5512a9bf-45ee-4bde-a5e8-8164adff3872
X-WR-CALDESC:Register Here if Attending Online - https://rssny.org/class-fo
 rms/chair-yoga-with-anita.html
X-WR-RELCALID:0b4d843613f7096c9010f0effc3e5ce6
X-WR-TIMEZONE:America/New_York
BEGIN:VTIMEZONE
TZID:America/New_York
BEGIN:STANDARD
TZNAME:EST
DTSTART:20231105T020000
TZOFFSETFROM:-0400
TZOFFSETTO:-0500
RDATE:20241103T020000
RDATE:20251102T020000
END:STANDARD
BEGIN:DAYLIGHT
TZNAME:EDT
DTSTART:20240310T020000
TZOFFSETFROM:-0500
TZOFFSETTO:-0400
RDATE:20250309T020000
END:DAYLIGHT
END:VTIMEZONE
BEGIN:VEVENT
UID:3a7db086-e456-48a8-96bd-a248b0ef745c
DTSTAMP:20260423T101724Z
DESCRIPTION:Register Here if Attending Online - https://rssny.org/class-for
 ms/chair-yoga-with-anita.html
DTSTART;TZID=America/New_York:20240815T094500
DTEND;TZID=America/New_York:20240815T104500
LOCATION:https://rssny.org/class-forms/chair-yoga-with-anita.html
SUMMARY:Chair Yoga with Anita (HYBRID)
END:VEVENT
END:VCALENDAR
