BEGIN:VCALENDAR
VERSION:2.0
PRODID:-//rssny.org//NONSGML kigkonsult.se iCalcreator 2.30.10//
CALSCALE:GREGORIAN
METHOD:PUBLISH
UID:bf433a6d-c131-4947-84d7-eceb8e25c9fb
X-WR-CALDESC:REGISTER HERE - https://rssny.org/class-forms/art-lectures-wit
 h-sylvia-meo.html
X-WR-RELCALID:9b247624c6ee46f642d9890305dbdde7
X-WR-TIMEZONE:America/New_York
BEGIN:VTIMEZONE
TZID:America/New_York
BEGIN:STANDARD
TZNAME:EST
DTSTART:20231105T020000
TZOFFSETFROM:-0400
TZOFFSETTO:-0500
RDATE:20241103T020000
RDATE:20251102T020000
END:STANDARD
BEGIN:DAYLIGHT
TZNAME:EDT
DTSTART:20240310T020000
TZOFFSETFROM:-0500
TZOFFSETTO:-0400
RDATE:20250309T020000
END:DAYLIGHT
END:VTIMEZONE
BEGIN:VEVENT
UID:4e78ef17-378b-41fd-8578-e4265a7946bb
DTSTAMP:20260423T101551Z
DESCRIPTION:REGISTER HERE - https://rssny.org/class-forms/art-lectures-with
 -sylvia-meo.html
DTSTART;TZID=America/New_York:20240805T170000
DTEND;TZID=America/New_York:20240805T180000
LOCATION:https://rssny.org/class-forms/art-lectures-with-sylvia-meo.html
SUMMARY:Women in Art Part 4: Sylvia Meo Lecture (Online)
END:VEVENT
END:VCALENDAR
