BEGIN:VCALENDAR
VERSION:2.0
PRODID:-//rssny.org//NONSGML kigkonsult.se iCalcreator 2.30.10//
CALSCALE:GREGORIAN
METHOD:PUBLISH
UID:1dd671ec-2edc-4199-85cb-ab35732f7b8e
X-WR-CALDESC:
X-WR-RELCALID:beaa8412ae18c9d060290eac6d6a7362
X-WR-TIMEZONE:America/New_York
BEGIN:VTIMEZONE
TZID:America/New_York
BEGIN:STANDARD
TZNAME:EST
DTSTART:20231105T020000
TZOFFSETFROM:-0400
TZOFFSETTO:-0500
RDATE:20241103T020000
RDATE:20251102T020000
END:STANDARD
BEGIN:DAYLIGHT
TZNAME:EDT
DTSTART:20240310T020000
TZOFFSETFROM:-0500
TZOFFSETTO:-0400
RDATE:20250309T020000
END:DAYLIGHT
END:VTIMEZONE
BEGIN:VEVENT
UID:3a20866c-93bb-404c-b6fe-713c29b0b673
DTSTAMP:20260423T132134Z
DESCRIPTION:
DTSTART;TZID=America/New_York:20240729T120000
DTEND;TZID=America/New_York:20240729T130000
LOCATION:
SUMMARY:Concerts in Motion: Meditative Mondays (This is not an RSS event)
END:VEVENT
END:VCALENDAR
