BEGIN:VCALENDAR
VERSION:2.0
PRODID:-//rssny.org//NONSGML kigkonsult.se iCalcreator 2.30.10//
CALSCALE:GREGORIAN
METHOD:PUBLISH
UID:736e5044-2243-4c1c-bf7c-66893b976b9a
X-WR-CALDESC:TO REGISTER: Call 718.884.5900
X-WR-RELCALID:da3720551eb0b2a0f8b7cbbd03486306
X-WR-TIMEZONE:America/New_York
BEGIN:VTIMEZONE
TZID:America/New_York
BEGIN:STANDARD
TZNAME:EST
DTSTART:20231105T020000
TZOFFSETFROM:-0400
TZOFFSETTO:-0500
RDATE:20241103T020000
RDATE:20251102T020000
END:STANDARD
BEGIN:DAYLIGHT
TZNAME:EDT
DTSTART:20240310T020000
TZOFFSETFROM:-0500
TZOFFSETTO:-0400
RDATE:20250309T020000
END:DAYLIGHT
END:VTIMEZONE
BEGIN:VEVENT
UID:fc1e791a-74b7-41f6-9310-9aba6eb0b93a
DTSTAMP:20260423T145202Z
DESCRIPTION:TO REGISTER: Call 718.884.5900
DTSTART;TZID=America/New_York:20240627T130000
DTEND;TZID=America/New_York:20240627T140000
LOCATION:TO REGISTER: Call 718.884.5900
SUMMARY:IN PERSON: Crafting with Recyclables with Susan Guzman
END:VEVENT
END:VCALENDAR
