BEGIN:VCALENDAR
VERSION:2.0
PRODID:-//rssny.org//NONSGML kigkonsult.se iCalcreator 2.30.10//
CALSCALE:GREGORIAN
METHOD:PUBLISH
UID:051c92e3-1ac0-4bbc-be1a-1c556edb1806
X-WR-CALDESC:Register Here if Attending Online - https://rssny.org/class-fo
 rms/chair-yoga-with-anita.html
X-WR-RELCALID:d236b90d3e8bc4477edd97bf9f903efb
X-WR-TIMEZONE:America/New_York
BEGIN:VTIMEZONE
TZID:America/New_York
BEGIN:STANDARD
TZNAME:EST
DTSTART:20231105T020000
TZOFFSETFROM:-0400
TZOFFSETTO:-0500
RDATE:20241103T020000
RDATE:20251102T020000
END:STANDARD
BEGIN:DAYLIGHT
TZNAME:EDT
DTSTART:20240310T020000
TZOFFSETFROM:-0500
TZOFFSETTO:-0400
RDATE:20250309T020000
END:DAYLIGHT
END:VTIMEZONE
BEGIN:VEVENT
UID:1fd1c9e6-3b62-4e56-8491-fb48ace33160
DTSTAMP:20260423T151406Z
DESCRIPTION:Register Here if Attending Online - https://rssny.org/class-for
 ms/chair-yoga-with-anita.html
DTSTART;TZID=America/New_York:20240627T094500
DTEND;TZID=America/New_York:20240627T104500
LOCATION:https://rssny.org/class-forms/chair-yoga-with-anita.html
SUMMARY:Chair Yoga with Anita (HYBRID)
END:VEVENT
END:VCALENDAR
