BEGIN:VCALENDAR
VERSION:2.0
PRODID:-//rssny.org//NONSGML kigkonsult.se iCalcreator 2.30.10//
CALSCALE:GREGORIAN
METHOD:PUBLISH
UID:72b5f2ab-28c3-42ca-bb61-9d56bdf1d93b
X-WR-CALDESC:To register: https://rssny.org/class-forms/ny-presbyterian.htm
 l\n\nCome learn about:​\n\n- Lifestyle habits that affect brain health​.\n
 - How to decrease the risk of dementia with diet​.\n- The specific foods t
 hat support brain health​
X-WR-RELCALID:229faa0b470808b09aaf3e5f8b77a915
X-WR-TIMEZONE:America/New_York
BEGIN:VTIMEZONE
TZID:America/New_York
BEGIN:STANDARD
TZNAME:EST
DTSTART:20231105T020000
TZOFFSETFROM:-0400
TZOFFSETTO:-0500
RDATE:20241103T020000
RDATE:20251102T020000
END:STANDARD
BEGIN:DAYLIGHT
TZNAME:EDT
DTSTART:20240310T020000
TZOFFSETFROM:-0500
TZOFFSETTO:-0400
RDATE:20250309T020000
END:DAYLIGHT
END:VTIMEZONE
BEGIN:VEVENT
UID:4bd07ed1-639e-4fdb-bc42-bc91db0fb02b
DTSTAMP:20260423T151357Z
DESCRIPTION:To register: https://rssny.org/class-forms/ny-presbyterian.html
 \n\nCome learn about:​\n\n- Lifestyle habits that affect brain health​.\n-
  How to decrease the risk of dementia with diet​.\n- The specific foods th
 at support brain health​
DTSTART;TZID=America/New_York:20240621T131500
DTEND;TZID=America/New_York:20240621T140000
LOCATION:https://rssny.org/class-forms/ny-presbyterian.html
SUMMARY:Let’s talk about “Nutrition & Brain Health! with NY Presbyterian (H
 ybrid)
END:VEVENT
END:VCALENDAR
