BEGIN:VCALENDAR
VERSION:2.0
PRODID:-//rssny.org//NONSGML kigkonsult.se iCalcreator 2.30.10//
CALSCALE:GREGORIAN
METHOD:PUBLISH
UID:5ba009f3-6821-4878-905f-30f7b20d63e0
X-WR-CALDESC:This class is online.\nLevel: Beginner\n\n\nThis session is le
 d by Tabitha Rosa\, Virtual Programs Coordinator and Tech Specialist.
X-WR-RELCALID:0d09c48d2281e088097a6c7fb03c9763
X-WR-TIMEZONE:America/New_York
BEGIN:VTIMEZONE
TZID:America/New_York
BEGIN:STANDARD
TZNAME:EST
DTSTART:20231105T020000
TZOFFSETFROM:-0400
TZOFFSETTO:-0500
RDATE:20241103T020000
RDATE:20251102T020000
END:STANDARD
BEGIN:DAYLIGHT
TZNAME:EDT
DTSTART:20240310T020000
TZOFFSETFROM:-0500
TZOFFSETTO:-0400
RDATE:20250309T020000
END:DAYLIGHT
END:VTIMEZONE
BEGIN:VEVENT
UID:d4a9aa87-bd28-4bd8-8536-44b4f38a1ff5
DTSTAMP:20260423T150801Z
DESCRIPTION:This class is online.\nLevel: Beginner\n\n\nThis session is led
  by Tabitha Rosa\, Virtual Programs Coordinator and Tech Specialist.
DTSTART;TZID=America/New_York:20240613T110000
DTEND;TZID=America/New_York:20240613T120000
LOCATION:https://rssny.org/class-forms/technology-classes.html
SUMMARY:NO CLASS TODAY Tech How-To's: (ONLINE)
END:VEVENT
END:VCALENDAR
