BEGIN:VCALENDAR
VERSION:2.0
PRODID:-//rssny.org//NONSGML kigkonsult.se iCalcreator 2.30.10//
CALSCALE:GREGORIAN
METHOD:PUBLISH
UID:a3196a2e-c61f-46c7-9b45-04eda7c34a47
X-WR-CALDESC:Register here - https://rssny.org/class-forms/concerts-in-moti
 on.html
X-WR-RELCALID:3e21b02f5b981b844709808b37813425
X-WR-TIMEZONE:America/New_York
BEGIN:VTIMEZONE
TZID:America/New_York
BEGIN:STANDARD
TZNAME:EST
DTSTART:20231105T020000
TZOFFSETFROM:-0400
TZOFFSETTO:-0500
RDATE:20241103T020000
RDATE:20251102T020000
END:STANDARD
BEGIN:DAYLIGHT
TZNAME:EDT
DTSTART:20240310T020000
TZOFFSETFROM:-0500
TZOFFSETTO:-0400
RDATE:20250309T020000
END:DAYLIGHT
END:VTIMEZONE
BEGIN:VEVENT
UID:a12b3df3-290b-4c54-a236-2895c233f826
DTSTAMP:20260423T151434Z
DESCRIPTION:Register here - https://rssny.org/class-forms/concerts-in-motio
 n.html
DTSTART;TZID=America/New_York:20240604T130000
DTEND;TZID=America/New_York:20240604T140000
LOCATION:https://rssny.org/class-forms/concerts-in-motion.html
SUMMARY:Concerts in Motion: Jewish/Klezmer (This is not an RSS event)
END:VEVENT
END:VCALENDAR
