BEGIN:VCALENDAR
VERSION:2.0
PRODID:-//rssny.org//NONSGML kigkonsult.se iCalcreator 2.30.10//
CALSCALE:GREGORIAN
METHOD:PUBLISH
UID:47445d0a-e33a-41c6-a095-649b372ed875
X-WR-CALDESC:Tijay Mohammed\, Guest Instructor\nSupplies Needed: Set of mar
 kers\, Cardboard\, or canvas or canvas panels\, Pencils\n\nClick here to r
 egister - https://rssny.org/watercolor-with-april.html   Register ONE TIME
  ONLY\n\nThis weekly ongoing class covers watercolor techniques\, drawing\
 , color\, design\, and art history. Every lesson is designed to accomodate
  the beginner through the advanced watercolor artist by offering different
  levels of approach.  The online zoom platform allows for a large group of
  participants to clearly see the slide presentation of art examples and th
 e watercolor lesson demonstration. Participants are invited to show their 
 works in progress and receive individualized feedback to encourage the dev
 elopment of a personal style.\nYou can use other materials besides waterco
 lor during the class.\n\nThe course is free and open to anyone 60+.\n\nNOT
 ES\n1.  You only need to register ONCE for the class. You will get a link 
 sent weekly.\n2.  Do not forward the zoom link\, please ask anyone to regi
 ster for the class.\n\nSupplies for Watercolor Class\nYou can go with the 
 simplest supplies (an inexpensive set of watercolors with a couple of brus
 hes and paper you can purchase at your local drugstore).  \n\nHere's a lin
 k to a list April compiled of Watercolor Drawing Supplies & Resources - ht
 tps://docs.google.com/document/d/1PsKs_1-tPRRi3Mclo3Gw21A1gDcZThwuc2IObe08
 GWg/edit?usp=sharing\n
X-WR-RELCALID:181e77b9aab1335ccfa57375ae3a93ad
X-WR-TIMEZONE:America/New_York
BEGIN:VTIMEZONE
TZID:America/New_York
BEGIN:STANDARD
TZNAME:EST
DTSTART:20231105T020000
TZOFFSETFROM:-0400
TZOFFSETTO:-0500
RDATE:20241103T020000
RDATE:20251102T020000
END:STANDARD
BEGIN:DAYLIGHT
TZNAME:EDT
DTSTART:20240310T020000
TZOFFSETFROM:-0500
TZOFFSETTO:-0400
RDATE:20250309T020000
END:DAYLIGHT
END:VTIMEZONE
BEGIN:VEVENT
UID:a01e2d41-ba95-435c-a512-0ffaebaaf71c
DTSTAMP:20260423T162710Z
DESCRIPTION:Tijay Mohammed\, Guest Instructor\nSupplies Needed: Set of mark
 ers\, Cardboard\, or canvas or canvas panels\, Pencils\n\nClick here to re
 gister - https://rssny.org/watercolor-with-april.html   Register ONE TIME 
 ONLY\n\nThis weekly ongoing class covers watercolor techniques\, drawing\,
  color\, design\, and art history. Every lesson is designed to accomodate 
 the beginner through the advanced watercolor artist by offering different 
 levels of approach.  The online zoom platform allows for a large group of 
 participants to clearly see the slide presentation of art examples and the
  watercolor lesson demonstration. Participants are invited to show their w
 orks in progress and receive individualized feedback to encourage the deve
 lopment of a personal style.\nYou can use other materials besides watercol
 or during the class.\n\nThe course is free and open to anyone 60+.\n\nNOTE
 S\n1.  You only need to register ONCE for the class. You will get a link s
 ent weekly.\n2.  Do not forward the zoom link\, please ask anyone to regis
 ter for the class.\n\nSupplies for Watercolor Class\nYou can go with the s
 implest supplies (an inexpensive set of watercolors with a couple of brush
 es and paper you can purchase at your local drugstore).  \n\nHere's a link
  to a list April compiled of Watercolor Drawing Supplies & Resources - htt
 ps://docs.google.com/document/d/1PsKs_1-tPRRi3Mclo3Gw21A1gDcZThwuc2IObe08G
 Wg/edit?usp=sharing\n
DTSTART;TZID=America/New_York:20240530T143000
DTEND;TZID=America/New_York:20240530T160000
LOCATION:https://rssny.org/watercolor-with-april.html
SUMMARY:Watercolor with April (ONLINE) - Tijay Mohammed Guest Instructor
END:VEVENT
END:VCALENDAR
