BEGIN:VCALENDAR
VERSION:2.0
PRODID:-//rssny.org//NONSGML kigkonsult.se iCalcreator 2.30.10//
CALSCALE:GREGORIAN
METHOD:PUBLISH
UID:87d9cb48-ded8-4a74-b9ff-4eaea9c0e1d3
X-WR-CALDESC:Click to register: https://rssny.org/class-forms/art-deco.html
 \n\nLearn about the Art Deco Story of Staten Island.
X-WR-RELCALID:03097d3d0c4ee8962b6bb74ec8af9f8b
X-WR-TIMEZONE:America/New_York
BEGIN:VTIMEZONE
TZID:America/New_York
BEGIN:STANDARD
TZNAME:EST
DTSTART:20231105T020000
TZOFFSETFROM:-0400
TZOFFSETTO:-0500
RDATE:20241103T020000
RDATE:20251102T020000
END:STANDARD
BEGIN:DAYLIGHT
TZNAME:EDT
DTSTART:20240310T020000
TZOFFSETFROM:-0500
TZOFFSETTO:-0400
RDATE:20250309T020000
END:DAYLIGHT
END:VTIMEZONE
BEGIN:VEVENT
UID:e87c06ab-f756-4d53-ad18-65be7534a607
DTSTAMP:20260423T162718Z
DESCRIPTION:Click to register: https://rssny.org/class-forms/art-deco.html
 \n\nLearn about the Art Deco Story of Staten Island.
DTSTART;TZID=America/New_York:20240529T103000
DTEND;TZID=America/New_York:20240529T113000
LOCATION:https://rssny.org/class-forms/art-deco.html
SUMMARY:Telling the Art Deco Story of Staten Island with Matt Postal
END:VEVENT
END:VCALENDAR
