BEGIN:VCALENDAR
VERSION:2.0
PRODID:-//rssny.org//NONSGML kigkonsult.se iCalcreator 2.30.10//
CALSCALE:GREGORIAN
METHOD:PUBLISH
UID:47ba2baa-8f9a-4e13-901a-bf7151c881c2
X-WR-CALDESC:
X-WR-RELCALID:76cc42b278f72674383f09b8d726c7bb
X-WR-TIMEZONE:America/New_York
BEGIN:VTIMEZONE
TZID:America/New_York
BEGIN:STANDARD
TZNAME:EST
DTSTART:20231105T020000
TZOFFSETFROM:-0400
TZOFFSETTO:-0500
RDATE:20241103T020000
RDATE:20251102T020000
END:STANDARD
BEGIN:DAYLIGHT
TZNAME:EDT
DTSTART:20240310T020000
TZOFFSETFROM:-0500
TZOFFSETTO:-0400
RDATE:20250309T020000
END:DAYLIGHT
END:VTIMEZONE
BEGIN:VEVENT
UID:f14908ec-0706-42e1-b349-303fa7062e95
DTSTAMP:20260423T162257Z
DESCRIPTION:
DTSTART;TZID=America/New_York:20240527T130000
DTEND;TZID=America/New_York:20240527T143000
LOCATION:
SUMMARY:Horticultural Wellness Workshops with Barbara:
END:VEVENT
END:VCALENDAR
