BEGIN:VCALENDAR
VERSION:2.0
PRODID:-//rssny.org//NONSGML kigkonsult.se iCalcreator 2.30.10//
CALSCALE:GREGORIAN
METHOD:PUBLISH
UID:211e6e6c-5cca-4f64-806b-238a87cf8555
X-WR-CALDESC:
X-WR-RELCALID:652fd450cb819c6ff619510178f2d508
X-WR-TIMEZONE:America/New_York
BEGIN:VTIMEZONE
TZID:America/New_York
BEGIN:STANDARD
TZNAME:EST
DTSTART:20231105T020000
TZOFFSETFROM:-0400
TZOFFSETTO:-0500
RDATE:20241103T020000
RDATE:20251102T020000
END:STANDARD
BEGIN:DAYLIGHT
TZNAME:EDT
DTSTART:20240310T020000
TZOFFSETFROM:-0500
TZOFFSETTO:-0400
RDATE:20250309T020000
END:DAYLIGHT
END:VTIMEZONE
BEGIN:VEVENT
UID:9674bc60-8cf9-47d8-a851-1d47dc883226
DTSTAMP:20260423T161930Z
DESCRIPTION:
DTSTART;TZID=America/New_York:20240524T150000
DTEND;TZID=America/New_York:20240524T160000
LOCATION:
SUMMARY:RSS Garden CANCELED
END:VEVENT
END:VCALENDAR
