BEGIN:VCALENDAR
VERSION:2.0
PRODID:-//rssny.org//NONSGML kigkonsult.se iCalcreator 2.30.10//
CALSCALE:GREGORIAN
METHOD:PUBLISH
UID:041295a4-dfa7-4c25-b827-d002f5bafc70
X-WR-CALDESC:
X-WR-RELCALID:56b81ca40bf0255ce73253e46f7a4820
X-WR-TIMEZONE:America/New_York
BEGIN:VTIMEZONE
TZID:America/New_York
BEGIN:STANDARD
TZNAME:EST
DTSTART:20231105T020000
TZOFFSETFROM:-0400
TZOFFSETTO:-0500
RDATE:20241103T020000
RDATE:20251102T020000
END:STANDARD
BEGIN:DAYLIGHT
TZNAME:EDT
DTSTART:20240310T020000
TZOFFSETFROM:-0500
TZOFFSETTO:-0400
RDATE:20250309T020000
END:DAYLIGHT
END:VTIMEZONE
BEGIN:VEVENT
UID:977f17f7-dd7e-441a-8301-8559f1a7bc9a
DTSTAMP:20260423T162846Z
DESCRIPTION:
DTSTART;TZID=America/New_York:20240523T094500
DTEND;TZID=America/New_York:20240523T104500
LOCATION:
SUMMARY:Chair Yoga with Anita (HYBRID)
END:VEVENT
END:VCALENDAR
