BEGIN:VCALENDAR
VERSION:2.0
PRODID:-//rssny.org//NONSGML kigkonsult.se iCalcreator 2.30.10//
CALSCALE:GREGORIAN
METHOD:PUBLISH
UID:f3d6081a-48e4-4ea1-b772-f6fd7a10941b
X-WR-CALDESC:Register here - https://rssny.org/class-forms/concerts-in-moti
 on.html
X-WR-RELCALID:35bbab4d3da774597c339a7f8bdd3438
X-WR-TIMEZONE:America/New_York
BEGIN:VTIMEZONE
TZID:America/New_York
BEGIN:STANDARD
TZNAME:EST
DTSTART:20231105T020000
TZOFFSETFROM:-0400
TZOFFSETTO:-0500
RDATE:20241103T020000
RDATE:20251102T020000
END:STANDARD
BEGIN:DAYLIGHT
TZNAME:EDT
DTSTART:20240310T020000
TZOFFSETFROM:-0500
TZOFFSETTO:-0400
RDATE:20250309T020000
END:DAYLIGHT
END:VTIMEZONE
BEGIN:VEVENT
UID:bc95236c-74ba-49bf-aee3-92c5c9f372ae
DTSTAMP:20260423T162847Z
DESCRIPTION:Register here - https://rssny.org/class-forms/concerts-in-motio
 n.html
DTSTART;TZID=America/New_York:20240521T130000
DTEND;TZID=America/New_York:20240521T140000
LOCATION:https://rssny.org/class-forms/concerts-in-motion.html
SUMMARY:Concerts in Motion: Jewish/Klezmer (This is not an RSS event)
END:VEVENT
END:VCALENDAR
