BEGIN:VCALENDAR
VERSION:2.0
PRODID:-//rssny.org//NONSGML kigkonsult.se iCalcreator 2.30.10//
CALSCALE:GREGORIAN
METHOD:PUBLISH
UID:f9aa2b51-fbff-4d58-8163-9744fc1e35c3
X-WR-CALDESC:If you are attending online\, click here to register - https:/
 /rssny.org/belly-dancing.html\n\nJoin Noora for belly dancing. Belly danci
 ng is a great way to get exercise\, practice balance and have fun!
X-WR-RELCALID:6ef8a4cd79b21a75bf046097c2a5f0e8
X-WR-TIMEZONE:America/New_York
BEGIN:VTIMEZONE
TZID:America/New_York
BEGIN:STANDARD
TZNAME:EST
DTSTART:20231105T020000
TZOFFSETFROM:-0400
TZOFFSETTO:-0500
RDATE:20241103T020000
RDATE:20251102T020000
END:STANDARD
BEGIN:DAYLIGHT
TZNAME:EDT
DTSTART:20240310T020000
TZOFFSETFROM:-0500
TZOFFSETTO:-0400
RDATE:20250309T020000
END:DAYLIGHT
END:VTIMEZONE
BEGIN:VEVENT
UID:4e88cffb-9999-4e36-9f9f-e9247eb85d81
DTSTAMP:20260423T162257Z
DESCRIPTION:If you are attending online\, click here to register - https://
 rssny.org/belly-dancing.html\n\nJoin Noora for belly dancing. Belly dancin
 g is a great way to get exercise\, practice balance and have fun!
DTSTART;TZID=America/New_York:20240521T130000
DTEND;TZID=America/New_York:20240521T140000
LOCATION:
SUMMARY:Belly Dancing w/Noora (HYBRID)
END:VEVENT
END:VCALENDAR
