BEGIN:VCALENDAR
VERSION:2.0
PRODID:-//rssny.org//NONSGML kigkonsult.se iCalcreator 2.30.10//
CALSCALE:GREGORIAN
METHOD:PUBLISH
UID:5bb3cf3a-51e2-4cad-abdb-b434c70daea3
X-WR-CALDESC:REGISTER HERE - https://rssny.org/class-forms/get-fit-with-stu
 art.html\n\nGet tone and fit with Stuart\, our exercise expert. Good for y
 ou whatever your level of fitness. A general fitness class that can be don
 e seated or standing. Try out this new class at RSS.
X-WR-RELCALID:0bbb80bbe0eb24f34a1ee0735bd3d2f6
X-WR-TIMEZONE:America/New_York
BEGIN:VTIMEZONE
TZID:America/New_York
BEGIN:STANDARD
TZNAME:EST
DTSTART:20231105T020000
TZOFFSETFROM:-0400
TZOFFSETTO:-0500
RDATE:20241103T020000
RDATE:20251102T020000
END:STANDARD
BEGIN:DAYLIGHT
TZNAME:EDT
DTSTART:20240310T020000
TZOFFSETFROM:-0500
TZOFFSETTO:-0400
RDATE:20250309T020000
END:DAYLIGHT
END:VTIMEZONE
BEGIN:VEVENT
UID:dcfc2940-6aa1-445b-88df-7fa99ff34b18
DTSTAMP:20260423T162515Z
DESCRIPTION:REGISTER HERE - https://rssny.org/class-forms/get-fit-with-stua
 rt.html\n\nGet tone and fit with Stuart\, our exercise expert. Good for yo
 u whatever your level of fitness. A general fitness class that can be done
  seated or standing. Try out this new class at RSS.
DTSTART;TZID=America/New_York:20240517T100000
DTEND;TZID=America/New_York:20240517T110000
LOCATION:https://rssny.org/class-forms/get-fit-with-stuart.html
SUMMARY:Get Fit with Stuart (ONLINE & IN CENTER)
END:VEVENT
END:VCALENDAR
