BEGIN:VCALENDAR
VERSION:2.0
PRODID:-//rssny.org//NONSGML kigkonsult.se iCalcreator 2.30.10//
CALSCALE:GREGORIAN
METHOD:PUBLISH
UID:e5f6c7a0-d59a-479c-9ae3-7805f5dabee3
X-WR-CALDESC:TO REGISTER: Call 718.884.5900
X-WR-RELCALID:40ece5d6bb73618f0cd0c4be0925410f
X-WR-TIMEZONE:America/New_York
BEGIN:VTIMEZONE
TZID:America/New_York
BEGIN:STANDARD
TZNAME:EST
DTSTART:20231105T020000
TZOFFSETFROM:-0400
TZOFFSETTO:-0500
RDATE:20241103T020000
RDATE:20251102T020000
END:STANDARD
BEGIN:DAYLIGHT
TZNAME:EDT
DTSTART:20240310T020000
TZOFFSETFROM:-0500
TZOFFSETTO:-0400
RDATE:20250309T020000
END:DAYLIGHT
END:VTIMEZONE
BEGIN:VEVENT
UID:850d36a7-7da3-48ad-b96e-49da1f980b43
DTSTAMP:20260423T162719Z
DESCRIPTION:TO REGISTER: Call 718.884.5900
DTSTART;TZID=America/New_York:20240509T130000
DTEND;TZID=America/New_York:20240509T140000
LOCATION:TO REGISTER: Call 718.884.5900
SUMMARY:IN PERSON: Crafting with Recyclables with Susan Guzman
END:VEVENT
END:VCALENDAR
