BEGIN:VCALENDAR
VERSION:2.0
PRODID:-//rssny.org//NONSGML kigkonsult.se iCalcreator 2.30.10//
CALSCALE:GREGORIAN
METHOD:PUBLISH
UID:9e3023c8-f738-44cc-b191-3417f0ba68a5
X-WR-CALDESC:This writing group is for anyone who likes to write\, likes to
  share\, and enjoys creating both memoir and fictional writing.  Every wee
 k I give a prompt to focus on\, and the following week everyone has a chan
 ce to share what he/she has written.  There is time\, then\, to comment by
  picking a phrase or sentence that stood out for the listener as exception
 al or reminiscent.\n\nIf you are interested in joining send an email to in
 fo@rssny.org
X-WR-RELCALID:a70bc936cee9bc26185d5e37d7429dae
X-WR-TIMEZONE:America/New_York
BEGIN:VTIMEZONE
TZID:America/New_York
BEGIN:STANDARD
TZNAME:EST
DTSTART:20231105T020000
TZOFFSETFROM:-0400
TZOFFSETTO:-0500
RDATE:20241103T020000
RDATE:20251102T020000
END:STANDARD
BEGIN:DAYLIGHT
TZNAME:EDT
DTSTART:20240310T020000
TZOFFSETFROM:-0500
TZOFFSETTO:-0400
RDATE:20250309T020000
END:DAYLIGHT
END:VTIMEZONE
BEGIN:VEVENT
UID:f8dcd895-0dc5-476d-813a-4f88b5f61b1d
DTSTAMP:20260423T162236Z
DESCRIPTION:This writing group is for anyone who likes to write\, likes to 
 share\, and enjoys creating both memoir and fictional writing.  Every week
  I give a prompt to focus on\, and the following week everyone has a chanc
 e to share what he/she has written.  There is time\, then\, to comment by 
 picking a phrase or sentence that stood out for the listener as exceptiona
 l or reminiscent.\n\nIf you are interested in joining send an email to inf
 o@rssny.org
DTSTART;TZID=America/New_York:20240506T123000
DTEND;TZID=America/New_York:20240506T140000
LOCATION:
SUMMARY:CANCELED: Write On! Writing Your Memories
END:VEVENT
END:VCALENDAR
