BEGIN:VCALENDAR
VERSION:2.0
PRODID:-//rssny.org//NONSGML kigkonsult.se iCalcreator 2.30.10//
CALSCALE:GREGORIAN
METHOD:PUBLISH
UID:bae3162d-67b7-40bb-bd02-6bd183e6a241
X-WR-CALDESC:
X-WR-RELCALID:e873b245f5a50704fafc3b5c8014d857
X-WR-TIMEZONE:America/New_York
BEGIN:VTIMEZONE
TZID:America/New_York
BEGIN:STANDARD
TZNAME:EST
DTSTART:20231105T020000
TZOFFSETFROM:-0400
TZOFFSETTO:-0500
RDATE:20241103T020000
RDATE:20251102T020000
END:STANDARD
BEGIN:DAYLIGHT
TZNAME:EDT
DTSTART:20240310T020000
TZOFFSETFROM:-0500
TZOFFSETTO:-0400
RDATE:20250309T020000
END:DAYLIGHT
END:VTIMEZONE
BEGIN:VEVENT
UID:46f19a70-0c6a-4487-9524-7346eedd53dd
DTSTAMP:20260423T161707Z
DESCRIPTION:
DTSTART;TZID=America/New_York:20240504T060000
DTEND;TZID=America/New_York:20240504T060001
LOCATION:
SUMMARY:Tech Expo
END:VEVENT
END:VCALENDAR
