BEGIN:VCALENDAR
VERSION:2.0
PRODID:-//rssny.org//NONSGML kigkonsult.se iCalcreator 2.30.10//
CALSCALE:GREGORIAN
METHOD:PUBLISH
UID:a9156d05-476a-4739-8126-ec36b1fc93bb
X-WR-CALDESC:
X-WR-RELCALID:09f8c574c1f0b48c9b5a5de017bbd4bb
X-WR-TIMEZONE:America/New_York
BEGIN:VTIMEZONE
TZID:America/New_York
BEGIN:STANDARD
TZNAME:EST
DTSTART:20231105T020000
TZOFFSETFROM:-0400
TZOFFSETTO:-0500
RDATE:20241103T020000
END:STANDARD
BEGIN:DAYLIGHT
TZNAME:EDT
DTSTART:20240310T020000
TZOFFSETFROM:-0500
TZOFFSETTO:-0400
RDATE:20250309T020000
END:DAYLIGHT
END:VTIMEZONE
BEGIN:VEVENT
UID:f624daf0-a9a4-4734-bc5c-dfbc2735414c
DTSTAMP:20260423T162908Z
DESCRIPTION:
DTSTART;TZID=America/New_York:20240502T094500
DTEND;TZID=America/New_York:20240502T104500
LOCATION:
SUMMARY:CANCELED: Chair Yoga with Anita (HYBRID)
END:VEVENT
END:VCALENDAR
