BEGIN:VCALENDAR
VERSION:2.0
PRODID:-//rssny.org//NONSGML kigkonsult.se iCalcreator 2.30.10//
CALSCALE:GREGORIAN
METHOD:PUBLISH
UID:d8316432-9e2b-4f13-b05a-c06090565cb4
X-WR-CALDESC:
X-WR-RELCALID:f7a0de7cdda5ea533e08c405e6b75ef4
X-WR-TIMEZONE:America/New_York
BEGIN:VTIMEZONE
TZID:America/New_York
BEGIN:STANDARD
TZNAME:EST
DTSTART:20231105T020000
TZOFFSETFROM:-0400
TZOFFSETTO:-0500
RDATE:20241103T020000
END:STANDARD
BEGIN:DAYLIGHT
TZNAME:EDT
DTSTART:20240310T020000
TZOFFSETFROM:-0500
TZOFFSETTO:-0400
RDATE:20250309T020000
END:DAYLIGHT
END:VTIMEZONE
BEGIN:VEVENT
UID:be428b73-040a-497b-adfe-255b12fc5fd5
DTSTAMP:20260423T162256Z
DESCRIPTION:
DTSTART;TZID=America/New_York:20240501T131500
DTEND;TZID=America/New_York:20240501T150000
LOCATION:
SUMMARY:Lest We Forget: A Holocaust Remembrance Concert (Hybrid)
END:VEVENT
END:VCALENDAR
