BEGIN:VCALENDAR
VERSION:2.0
PRODID:-//rssny.org//NONSGML kigkonsult.se iCalcreator 2.30.10//
CALSCALE:GREGORIAN
METHOD:PUBLISH
UID:bb86c5a8-3cc1-4596-b17f-a7653e08e920
X-WR-CALDESC:If you are attending online\, click here to register - https:/
 /rssny.org/belly-dancing.html\n\nJoin Noora for belly dancing. Belly danci
 ng is a great way to get exercise\, practice balance and have fun!
X-WR-RELCALID:0735f4c2a1fb317dddb47d3b24050d8c
X-WR-TIMEZONE:America/New_York
BEGIN:VTIMEZONE
TZID:America/New_York
BEGIN:STANDARD
TZNAME:EST
DTSTART:20231105T020000
TZOFFSETFROM:-0400
TZOFFSETTO:-0500
RDATE:20241103T020000
END:STANDARD
BEGIN:DAYLIGHT
TZNAME:EDT
DTSTART:20240310T020000
TZOFFSETFROM:-0500
TZOFFSETTO:-0400
RDATE:20250309T020000
END:DAYLIGHT
END:VTIMEZONE
BEGIN:VEVENT
UID:518a990a-6732-43f8-b0e7-c6bec3c27ae8
DTSTAMP:20260423T175846Z
DESCRIPTION:If you are attending online\, click here to register - https://
 rssny.org/belly-dancing.html\n\nJoin Noora for belly dancing. Belly dancin
 g is a great way to get exercise\, practice balance and have fun!
DTSTART;TZID=America/New_York:20240423T130000
DTEND;TZID=America/New_York:20240423T140000
LOCATION:
SUMMARY:Belly Dancing w/Noora (HYBRID)
END:VEVENT
END:VCALENDAR
