BEGIN:VCALENDAR
VERSION:2.0
PRODID:-//rssny.org//NONSGML kigkonsult.se iCalcreator 2.30.10//
CALSCALE:GREGORIAN
METHOD:PUBLISH
UID:983ada58-63cb-4d1f-a598-df7c754ca2ce
X-WR-CALDESC:If you are interested in joining this group send an email to i
 nfo@rssny.org or call 718.884.5900
X-WR-RELCALID:6a0161febbead0bea8ff997e37bf6e3f
X-WR-TIMEZONE:America/New_York
BEGIN:VTIMEZONE
TZID:America/New_York
BEGIN:STANDARD
TZNAME:EST
DTSTART:20231105T020000
TZOFFSETFROM:-0400
TZOFFSETTO:-0500
RDATE:20241103T020000
END:STANDARD
BEGIN:DAYLIGHT
TZNAME:EDT
DTSTART:20240310T020000
TZOFFSETFROM:-0500
TZOFFSETTO:-0400
RDATE:20250309T020000
END:DAYLIGHT
END:VTIMEZONE
BEGIN:VEVENT
UID:46445a44-fb99-4d49-ab2c-85002ccbe4e6
DTSTAMP:20260423T175249Z
DESCRIPTION:If you are interested in joining this group send an email to in
 fo@rssny.org or call 718.884.5900
DTSTART;TZID=America/New_York:20240403T130000
DTEND;TZID=America/New_York:20240403T140000
LOCATION:
SUMMARY:Caregivers Support Group
END:VEVENT
END:VCALENDAR
