BEGIN:VCALENDAR
VERSION:2.0
PRODID:-//rssny.org//NONSGML kigkonsult.se iCalcreator 2.30.10//
CALSCALE:GREGORIAN
METHOD:PUBLISH
UID:5dd2b49b-aa71-4a40-a9d9-56ff47e689eb
X-WR-CALDESC:
X-WR-RELCALID:e5833c45a302bbb250ae3fe051e35269
X-WR-TIMEZONE:America/New_York
BEGIN:VTIMEZONE
TZID:America/New_York
BEGIN:STANDARD
TZNAME:EST
DTSTART:20231105T020000
TZOFFSETFROM:-0400
TZOFFSETTO:-0500
RDATE:20241103T020000
END:STANDARD
BEGIN:DAYLIGHT
TZNAME:EDT
DTSTART:20240310T020000
TZOFFSETFROM:-0500
TZOFFSETTO:-0400
RDATE:20250309T020000
END:DAYLIGHT
END:VTIMEZONE
BEGIN:VEVENT
UID:4924bb8a-45f7-4c90-925f-ec6e23ead977
DTSTAMP:20260423T194505Z
DESCRIPTION:
DTSTART;TZID=America/New_York:20240328T094500
DTEND;TZID=America/New_York:20240328T104500
LOCATION:
SUMMARY:Chair Yoga with Anita (HYBRID)
END:VEVENT
END:VCALENDAR
