BEGIN:VCALENDAR
VERSION:2.0
PRODID:-//rssny.org//NONSGML kigkonsult.se iCalcreator 2.30.10//
CALSCALE:GREGORIAN
METHOD:PUBLISH
UID:7ce75667-ea2f-48d4-a723-b80790e91bb5
X-WR-CALDESC:
X-WR-RELCALID:94220b92e092fcf07952ed2c29b41caf
X-WR-TIMEZONE:America/New_York
BEGIN:VTIMEZONE
TZID:America/New_York
BEGIN:STANDARD
TZNAME:EST
DTSTART:20231105T020000
TZOFFSETFROM:-0400
TZOFFSETTO:-0500
RDATE:20241103T020000
END:STANDARD
BEGIN:DAYLIGHT
TZNAME:EDT
DTSTART:20240310T020000
TZOFFSETFROM:-0500
TZOFFSETTO:-0400
RDATE:20250309T020000
END:DAYLIGHT
END:VTIMEZONE
BEGIN:VEVENT
UID:b400136d-90a7-407c-a36f-16c869a6b984
DTSTAMP:20260423T193626Z
DESCRIPTION:
DTSTART;TZID=America/New_York:20240324T130000
DTEND;TZID=America/New_York:20240324T143000
LOCATION:2600 Netherland Avenue\, Bronx\, NY 10463 US
SUMMARY:Intergenerational Open Mic with Concerts in Motion (Hybrid)
END:VEVENT
END:VCALENDAR
