BEGIN:VCALENDAR
VERSION:2.0
PRODID:-//rssny.org//NONSGML kigkonsult.se iCalcreator 2.30.10//
CALSCALE:GREGORIAN
METHOD:PUBLISH
UID:6bc5b740-01b3-4b94-86c9-8f703de57c79
X-WR-CALDESC:Para registrarse: https://rssny.org/class-forms/charlas-de-sal
 ud.html\n\nVenga para aprender sobre:\n• Cómo los adultos mayores activos 
 viven vidas más\nlargas\n• Los secretos de nutrición de Las Zonas Azules\n
 • Cómo Ud. puede superar los obstáculos para vivir\nhasta los 80\, 90 y má
 s años!\n\nPresentado por:\nArt Gillman\, MS\, RDN\, CDN\, Nutricionista/D
 ietista Registrado con NewYork-Presbyterian
X-WR-RELCALID:2a9d54ef921b833925e737808bbea91f
X-WR-TIMEZONE:America/New_York
BEGIN:VTIMEZONE
TZID:America/New_York
BEGIN:STANDARD
TZNAME:EST
DTSTART:20231105T020000
TZOFFSETFROM:-0400
TZOFFSETTO:-0500
RDATE:20241103T020000
END:STANDARD
BEGIN:DAYLIGHT
TZNAME:EDT
DTSTART:20240310T020000
TZOFFSETFROM:-0500
TZOFFSETTO:-0400
RDATE:20250309T020000
END:DAYLIGHT
END:VTIMEZONE
BEGIN:VEVENT
UID:791a25ba-228c-48df-b967-fdfd711f377e
DTSTAMP:20260424T130739Z
DESCRIPTION:Para registrarse: https://rssny.org/class-forms/charlas-de-salu
 d.html\n\nVenga para aprender sobre:\n• Cómo los adultos mayores activos v
 iven vidas más\nlargas\n• Los secretos de nutrición de Las Zonas Azules\n•
  Cómo Ud. puede superar los obstáculos para vivir\nhasta los 80\, 90 y más
  años!\n\nPresentado por:\nArt Gillman\, MS\, RDN\, CDN\, Nutricionista/Di
 etista Registrado con NewYork-Presbyterian
DTSTART;TZID=America/New_York:20240322T140000
DTEND;TZID=America/New_York:20240322T150000
LOCATION:https://rssny.org/class-forms/charlas-de-salud.html
SUMMARY:Taller de salud presbiteriano de Nueva York:  Hablemos de “La Nutri
 ción y Longevidad!” (híbrido)
END:VEVENT
END:VCALENDAR
