BEGIN:VCALENDAR
VERSION:2.0
PRODID:-//rssny.org//NONSGML kigkonsult.se iCalcreator 2.30.10//
CALSCALE:GREGORIAN
METHOD:PUBLISH
UID:bdc5ee60-6dbb-4558-b848-741bf405ace6
X-WR-CALDESC:Click Here to Register - https://rssny.org/class-forms/concert
 s-in-motion.html\n
X-WR-RELCALID:c3fee8374843c158ea28d099b292e6ea
X-WR-TIMEZONE:America/New_York
BEGIN:VTIMEZONE
TZID:America/New_York
BEGIN:STANDARD
TZNAME:EST
DTSTART:20231105T020000
TZOFFSETFROM:-0400
TZOFFSETTO:-0500
RDATE:20241103T020000
END:STANDARD
BEGIN:DAYLIGHT
TZNAME:EDT
DTSTART:20240310T020000
TZOFFSETFROM:-0500
TZOFFSETTO:-0400
RDATE:20250309T020000
END:DAYLIGHT
END:VTIMEZONE
BEGIN:VEVENT
UID:a21e5985-4d94-42d8-9a08-37cf5cdc9702
DTSTAMP:20260423T192808Z
DESCRIPTION:Click Here to Register - https://rssny.org/class-forms/concerts
 -in-motion.html\n
DTSTART;TZID=America/New_York:20240321T130000
DTEND;TZID=America/New_York:20240321T140000
LOCATION:https://rssny.org/class-forms/concerts-in-motion.html
SUMMARY:Concerts in Motion: Coffehouse Thursdays- NOT AN RSS PROGRAM)
END:VEVENT
END:VCALENDAR
