BEGIN:VCALENDAR
VERSION:2.0
PRODID:-//rssny.org//NONSGML kigkonsult.se iCalcreator 2.30.10//
CALSCALE:GREGORIAN
METHOD:PUBLISH
UID:2ab421d3-6c73-48aa-b27c-9181724bd6ea
X-WR-CALDESC:
X-WR-RELCALID:2805273335032b098dfe8b632b54c81a
X-WR-TIMEZONE:America/New_York
BEGIN:VTIMEZONE
TZID:America/New_York
BEGIN:STANDARD
TZNAME:EST
DTSTART:20231105T020000
TZOFFSETFROM:-0400
TZOFFSETTO:-0500
RDATE:20241103T020000
END:STANDARD
BEGIN:DAYLIGHT
TZNAME:EDT
DTSTART:20240310T020000
TZOFFSETFROM:-0500
TZOFFSETTO:-0400
RDATE:20250309T020000
END:DAYLIGHT
END:VTIMEZONE
BEGIN:VEVENT
UID:5a7eb972-1da0-4413-9abf-b2e1f456f687
DTSTAMP:20260423T194347Z
DESCRIPTION:
DTSTART;TZID=America/New_York:20240321T094500
DTEND;TZID=America/New_York:20240321T104500
LOCATION:
SUMMARY:Chair Yoga with Anita (HYBRID)
END:VEVENT
END:VCALENDAR
