BEGIN:VCALENDAR
VERSION:2.0
PRODID:-//rssny.org//NONSGML kigkonsult.se iCalcreator 2.30.10//
CALSCALE:GREGORIAN
METHOD:PUBLISH
UID:a3d05ef2-99a8-442b-b313-8e6c461aa278
X-WR-CALDESC:
X-WR-RELCALID:4ea417f2819417eead9be789b353b0ea
X-WR-TIMEZONE:America/New_York
BEGIN:VTIMEZONE
TZID:America/New_York
BEGIN:STANDARD
TZNAME:EST
DTSTART:20231105T020000
TZOFFSETFROM:-0400
TZOFFSETTO:-0500
RDATE:20241103T020000
END:STANDARD
BEGIN:DAYLIGHT
TZNAME:EDT
DTSTART:20240310T020000
TZOFFSETFROM:-0500
TZOFFSETTO:-0400
RDATE:20250309T020000
END:DAYLIGHT
END:VTIMEZONE
BEGIN:VEVENT
UID:8d16597b-a77d-45b8-8953-8349c033e2cc
DTSTAMP:20260423T194358Z
DESCRIPTION:
DTSTART;TZID=America/New_York:20240314T130000
DTEND;TZID=America/New_York:20240314T140000
LOCATION:
SUMMARY:Smart Seniors Guide—Protect Yourself Online By NY State Attorney Ge
 neral's Office (Hybrid)
END:VEVENT
END:VCALENDAR
