BEGIN:VCALENDAR
VERSION:2.0
PRODID:-//rssny.org//NONSGML kigkonsult.se iCalcreator 2.30.10//
CALSCALE:GREGORIAN
METHOD:PUBLISH
UID:651cdefa-7717-4828-a934-13cfdfd082f4
X-WR-CALDESC:This class is online.\nLevel: Beginner\n\n\nThe session is led
  by Tabitha Rosa\, the RSS Tech Specialist and Virtual Programs Coordinato
 r.
X-WR-RELCALID:a2e65f3f4143f70f3cfa10e93ae657af
X-WR-TIMEZONE:America/New_York
BEGIN:VTIMEZONE
TZID:America/New_York
BEGIN:STANDARD
TZNAME:EST
DTSTART:20231105T020000
TZOFFSETFROM:-0400
TZOFFSETTO:-0500
RDATE:20241103T020000
END:STANDARD
BEGIN:DAYLIGHT
TZNAME:EDT
DTSTART:20240310T020000
TZOFFSETFROM:-0500
TZOFFSETTO:-0400
RDATE:20250309T020000
END:DAYLIGHT
END:VTIMEZONE
BEGIN:VEVENT
UID:d86935b0-8a4f-4e80-813b-04c7ad2022f4
DTSTAMP:20260423T192912Z
DESCRIPTION:This class is online.\nLevel: Beginner\n\n\nThe session is led 
 by Tabitha Rosa\, the RSS Tech Specialist and Virtual Programs Coordinator
 .
DTSTART;TZID=America/New_York:20240314T110000
DTEND;TZID=America/New_York:20240314T120000
LOCATION:
SUMMARY:CANCELLED Tech How-To's:  (ONLINE)
END:VEVENT
END:VCALENDAR
