BEGIN:VCALENDAR
VERSION:2.0
PRODID:-//rssny.org//NONSGML kigkonsult.se iCalcreator 2.30.10//
CALSCALE:GREGORIAN
METHOD:PUBLISH
UID:12f4fb71-3824-46a6-9c16-7d20088e0169
X-WR-CALDESC:
X-WR-RELCALID:8c7d0db2e807e196552cb29b9f3743f6
X-WR-TIMEZONE:America/New_York
BEGIN:VTIMEZONE
TZID:America/New_York
BEGIN:STANDARD
TZNAME:EST
DTSTART:20231105T020000
TZOFFSETFROM:-0400
TZOFFSETTO:-0500
RDATE:20241103T020000
END:STANDARD
BEGIN:DAYLIGHT
TZNAME:EDT
DTSTART:20240310T020000
TZOFFSETFROM:-0500
TZOFFSETTO:-0400
RDATE:20250309T020000
END:DAYLIGHT
END:VTIMEZONE
BEGIN:VEVENT
UID:d2177bb2-1197-4487-a44b-43da4cb5ce38
DTSTAMP:20260423T192755Z
DESCRIPTION:
DTSTART;TZID=America/New_York:20240313T100000
DTEND;TZID=America/New_York:20240313T120000
LOCATION:
SUMMARY:Blood Pressure with Jennifer
END:VEVENT
END:VCALENDAR
