BEGIN:VCALENDAR
VERSION:2.0
PRODID:-//rssny.org//NONSGML kigkonsult.se iCalcreator 2.30.10//
CALSCALE:GREGORIAN
METHOD:PUBLISH
UID:96458b56-a458-49fe-a0b4-edd5e8a418e0
X-WR-CALDESC:
X-WR-RELCALID:accb436fd3f0213414b79e0e4a786e72
X-WR-TIMEZONE:America/New_York
BEGIN:VTIMEZONE
TZID:America/New_York
BEGIN:STANDARD
TZNAME:EST
DTSTART:20231105T020000
TZOFFSETFROM:-0400
TZOFFSETTO:-0500
RDATE:20241103T020000
END:STANDARD
BEGIN:DAYLIGHT
TZNAME:EDT
DTSTART:20230312T020000
TZOFFSETFROM:-0500
TZOFFSETTO:-0400
RDATE:20240310T020000
RDATE:20250309T020000
END:DAYLIGHT
END:VTIMEZONE
BEGIN:VEVENT
UID:a240a506-3c74-4a93-b50a-a075c87cdb50
DTSTAMP:20260423T194419Z
DESCRIPTION:
DTSTART;TZID=America/New_York:20240307T094500
DTEND;TZID=America/New_York:20240307T104500
LOCATION:
SUMMARY:Chair Yoga with Anita (HYBRID)
END:VEVENT
END:VCALENDAR
